BEGIN:VCALENDAR
VERSION:2.0
PRODID:-//Natview Foundation for Technology Innovation - ECPv6.15.20//NONSGML v1.0//EN
CALSCALE:GREGORIAN
METHOD:PUBLISH
X-ORIGINAL-URL:https://natviewfoundation.org
X-WR-CALDESC:Events for Natview Foundation for Technology Innovation
REFRESH-INTERVAL;VALUE=DURATION:PT1H
X-Robots-Tag:noindex
X-PUBLISHED-TTL:PT1H
BEGIN:VTIMEZONE
TZID:UTC
BEGIN:STANDARD
TZOFFSETFROM:+0000
TZOFFSETTO:+0000
TZNAME:UTC
DTSTART:20170101T000000
END:STANDARD
END:VTIMEZONE
BEGIN:VEVENT
DTSTART;TZID=UTC:20241211T090000
DTEND;TZID=UTC:20241211T140000
DTSTAMP:20260423T133629
CREATED:20241205T132415Z
LAST-MODIFIED:20241205T132415Z
UID:1922-1733907600-1733925600@natviewfoundation.org
SUMMARY:Kano Operational Data Diagnostics Assessment Dissemination Event
DESCRIPTION:
URL:https://natviewfoundation.org/event/kano-operational-data-diagnostics-assessment-dissemination-event/
LOCATION:bristol palace hotel\, Kano\, Kano\, Nigeria
END:VEVENT
BEGIN:VEVENT
DTSTART;TZID=UTC:20210921T100000
DTEND;TZID=UTC:20210921T100000
DTSTAMP:20260423T133629
CREATED:20210917T094641Z
LAST-MODIFIED:20210917T095757Z
UID:733-1632218400-1632218400@natviewfoundation.org
SUMMARY:Warawa Living Lab Program Launch - Kurna Yan Dachi\, Kano State
DESCRIPTION:
URL:https://natviewfoundation.org/event/warawa-living-lab-program-launch-kurna-yan-dachi-kano-state/
LOCATION:Warawa Living Lab Site\, Kurna Yan Dachi\, Warawa\, Kano State\, Kano\, Kano\, Nigeria
END:VEVENT
BEGIN:VEVENT
DTSTART;TZID=UTC:20191010T080000
DTEND;TZID=UTC:20191010T170000
DTSTAMP:20260423T133629
CREATED:20190927T123348Z
LAST-MODIFIED:20190927T123348Z
UID:584-1570694400-1570726800@natviewfoundation.org
SUMMARY:Yan Matan Arewa Hackatton Event
DESCRIPTION:
URL:https://natviewfoundation.org/event/yan-matan-arewa-hackatton-event/
LOCATION:Kano
END:VEVENT
BEGIN:VEVENT
DTSTART;TZID=UTC:20191001T080000
DTEND;TZID=UTC:20191001T170000
DTSTAMP:20260423T133629
CREATED:20190927T122515Z
LAST-MODIFIED:20190927T122515Z
UID:576-1569916800-1569949200@natviewfoundation.org
SUMMARY:National Day
DESCRIPTION:
URL:https://natviewfoundation.org/event/national-day/
LOCATION:Kano
END:VEVENT
BEGIN:VEVENT
DTSTART;TZID=UTC:20190923T080000
DTEND;TZID=UTC:20190923T170000
DTSTAMP:20260423T133629
CREATED:20190927T123810Z
LAST-MODIFIED:20190927T123810Z
UID:587-1569225600-1569258000@natviewfoundation.org
SUMMARY:HEFA Update Meeting With The Governor
DESCRIPTION:
URL:https://natviewfoundation.org/event/hefa-update-meeting-with-the-governor/
LOCATION:Kano
END:VEVENT
BEGIN:VEVENT
DTSTART;TZID=UTC:20190918T080000
DTEND;TZID=UTC:20190919T170000
DTSTAMP:20260423T133629
CREATED:20190927T122204Z
LAST-MODIFIED:20190927T122204Z
UID:574-1568793600-1568912400@natviewfoundation.org
SUMMARY:BMGF Partners Meeting
DESCRIPTION:
URL:https://natviewfoundation.org/event/bmgf-partners-meeting/
LOCATION:Kano
END:VEVENT
BEGIN:VEVENT
DTSTART;TZID=UTC:20190918T080000
DTEND;TZID=UTC:20190919T170000
DTSTAMP:20260423T133629
CREATED:20190909T135043Z
LAST-MODIFIED:20190909T135043Z
UID:569-1568793600-1568912400@natviewfoundation.org
SUMMARY:Annual Bill and Melinda Gates Foundation Partners Meeting
DESCRIPTION:
URL:https://natviewfoundation.org/event/annual-bill-and-melinda-gates-foundation-partners-meeting/
LOCATION:Kano
END:VEVENT
BEGIN:VEVENT
DTSTART;VALUE=DATE:20190910
DTEND;VALUE=DATE:20190911
DTSTAMP:20260423T133629
CREATED:20190909T134946Z
LAST-MODIFIED:20190909T134946Z
UID:567-1568073600-1568159999@natviewfoundation.org
SUMMARY:Technical Working Group (TWG) on Stake Holder Advocacy for Data Lab Project
DESCRIPTION:
URL:https://natviewfoundation.org/event/technical-working-group-twg-on-stake-holder-advocacy-for-data-lab-project/
LOCATION:Kano
END:VEVENT
BEGIN:VEVENT
DTSTART;TZID=UTC:20181216T080000
DTEND;TZID=UTC:20181216T170000
DTSTAMP:20260423T133629
CREATED:20181209T152321Z
LAST-MODIFIED:20181209T152401Z
UID:518-1544947200-1544979600@natviewfoundation.org
SUMMARY:NFTI begins construction work on Kaduna Data Lab Project & Center of Excellence
DESCRIPTION:
URL:https://natviewfoundation.org/event/nfti-begins-construction-work-on-kaduna-data-lab-project-center-of-excellence/
LOCATION:Kano
END:VEVENT
BEGIN:VEVENT
DTSTART;TZID=UTC:20181209T080000
DTEND;TZID=UTC:20181209T170000
DTSTAMP:20260423T133629
CREATED:20181209T152220Z
LAST-MODIFIED:20181209T152220Z
UID:516-1544342400-1544374800@natviewfoundation.org
SUMMARY:NFTI closes bid on Construction of Water Cottage on WLLP
DESCRIPTION:NFTI would close its bid process to select vendors for the construction of the water cottage for the Warawa Living Lab.
URL:https://natviewfoundation.org/event/nfti-closes-bid-on-construction-of-water-cottage-on-wllp/
LOCATION:Kano
END:VEVENT
END:VCALENDAR